BEGIN:VCALENDAR
VERSION:2.0
PRODID:-//Tupper Lake Golf Course - ECPv6.15.12.2//NONSGML v1.0//EN
CALSCALE:GREGORIAN
METHOD:PUBLISH
X-WR-CALNAME:Tupper Lake Golf Course
X-ORIGINAL-URL:https://www.tupperlakegolf.com
X-WR-CALDESC:Events for Tupper Lake Golf Course
REFRESH-INTERVAL;VALUE=DURATION:PT1H
X-Robots-Tag:noindex
X-PUBLISHED-TTL:PT1H
BEGIN:VTIMEZONE
TZID:UTC
BEGIN:STANDARD
TZOFFSETFROM:+0000
TZOFFSETTO:+0000
TZNAME:UTC
DTSTART:20230101T000000
END:STANDARD
END:VTIMEZONE
BEGIN:VEVENT
DTSTART;TZID=UTC:20240630T100000
DTEND;TZID=UTC:20240630T150000
DTSTAMP:20260422T052151
CREATED:20240624T160940Z
LAST-MODIFIED:20240624T160940Z
UID:6256-1719741600-1719759600@www.tupperlakegolf.com
SUMMARY:Tupper Cup
DESCRIPTION:The Tupper Cup at Tupper Lake Golf Club is a highly anticipated annual tournament that follows the Ryder Cup-style format\, pitting the Pro Shop against the Clubhouse in a series of intense matches. Each year\, players from both teams prepare meticulously\, strategizing to secure points and claim victory over their rivals. The competition unfolds over several days\, with each match carrying the weight of tradition and the thrill of friendly rivalry. \nBeyond the competitive spirit\, the Tupper Cup fosters a sense of community and camaraderie among participants and spectators alike. It’s a celebration of golfing excellence and sportsmanship\, where every swing and putt contributes to the legacy of the tournament. As the tournament concludes\, the winning team not only earns bragging rights but also decides the fate of the prestigious Tupper Cup trophy—whether it remains with the defending champions or finds a new home in the Clubhouse\, marking another chapter in the storied history of this cherished event at Tupper Lake Golf Club.
URL:https://www.tupperlakegolf.com/event/tupper-cup/
CATEGORIES:Member Event
ATTACH;FMTTYPE=image/jpeg:https://www.tupperlakegolf.com/wp-content/uploads/2024/06/301228032_536814408215075_8071212393309239517_n.jpeg
END:VEVENT
END:VCALENDAR