BEGIN:VCALENDAR
VERSION:2.0
PRODID:-//Tupper Lake Golf Course - ECPv6.15.12.2//NONSGML v1.0//EN
CALSCALE:GREGORIAN
METHOD:PUBLISH
X-WR-CALNAME:Tupper Lake Golf Course
X-ORIGINAL-URL:https://www.tupperlakegolf.com
X-WR-CALDESC:Events for Tupper Lake Golf Course
REFRESH-INTERVAL;VALUE=DURATION:PT1H
X-Robots-Tag:noindex
X-PUBLISHED-TTL:PT1H
BEGIN:VTIMEZONE
TZID:UTC
BEGIN:STANDARD
TZOFFSETFROM:+0000
TZOFFSETTO:+0000
TZNAME:UTC
DTSTART:20230101T000000
END:STANDARD
END:VTIMEZONE
BEGIN:VEVENT
DTSTART;TZID=UTC:20240831T100000
DTEND;TZID=UTC:20240831T170000
DTSTAMP:20260422T100720
CREATED:20240624T162813Z
LAST-MODIFIED:20240624T162813Z
UID:6273-1725098400-1725123600@www.tupperlakegolf.com
SUMMARY:Mac's Saferide Fundraiser scramble
DESCRIPTION:Mac Safe Ride is determined to stop drunk driving in the North Country. so come up and support the cause in this 4 person fundraiser scramble at Tupper Lake Golf Club. open to the public\, call us at 518-359-3701 to sign up now.
URL:https://www.tupperlakegolf.com/event/macs-saferide-fundraiser-scramble/
CATEGORIES:Public Events
END:VEVENT
END:VCALENDAR