BEGIN:VCALENDAR
VERSION:2.0
PRODID:-//Tupper Lake Golf Course - ECPv6.15.12.2//NONSGML v1.0//EN
CALSCALE:GREGORIAN
METHOD:PUBLISH
X-ORIGINAL-URL:https://www.tupperlakegolf.com
X-WR-CALDESC:Events for Tupper Lake Golf Course
REFRESH-INTERVAL;VALUE=DURATION:PT1H
X-Robots-Tag:noindex
X-PUBLISHED-TTL:PT1H
BEGIN:VTIMEZONE
TZID:UTC
BEGIN:STANDARD
TZOFFSETFROM:+0000
TZOFFSETTO:+0000
TZNAME:UTC
DTSTART:20230101T000000
END:STANDARD
END:VTIMEZONE
BEGIN:VEVENT
DTSTART;TZID=UTC:20240810T080000
DTEND;TZID=UTC:20240812T170000
DTSTAMP:20260422T100928
CREATED:20240530T010506Z
LAST-MODIFIED:20240926T185158Z
UID:6249-1723276800-1723482000@www.tupperlakegolf.com
SUMMARY:75th Annual Tupper Lake Open Pro-Am
DESCRIPTION:Sponsored By: \n \n  \nPlease click the link provided to view the final results of the 75th Annual Tupper Lake Open Pro/Am! \n75th Tupper Lake Open Pro_Am Final Results \n  \n  \n  \nWelcome to the 75th Annual Tupper Lake Pro-Am\, a landmark event that marks three-quarters of a century of golfing excellence and camaraderie. As one of the most esteemed gatherings of golf In the Adirondacks\, this year’s tournament promises to be an unforgettable celebration of skill\, sportsmanship\, and tradition. \nThis storied event boasts a thrilling 36-hole stroke play experience that accommodates golfers of all handicaps. Whether you’re a seasoned pro or a passionate amateur\, there’s a flight for you to showcase your talent and compete amongst peers for a large purse of prizes. \nAt the heart of the Tupper Lake Pro-Am lies its prestigious Pro Division\, attracting some of the most promising talents in the sport. Over the years\, aspiring tour professionals and icons like Lee Elder have graced our fairways\, vying for a coveted cash payout and the chance to leave their mark on Adirondack golfing history. \nBut the excitement doesn’t stop there. Before the competition kicks off in earnest\, join us on Friday for a lively practice round followed by a thrilling Long drive and putting contests at the clubhouse restaurant It’s a chance to warm up\, connect with fellow golf enthusiasts\, and perhaps even fine-tune your skills before the main event. \nWith its rich legacy\, inclusive format\, and thrilling sideline events\, the 75th Annual Tupper Lake Pro-Am is an unmissable highlight on the golfing calendar. Whether you’re a player\, a spectator\, or simply someone who appreciates the beauty of the game\, join us for a weekend of excitement\, competition\, and celebration. Trust us when we say: you don’t want to miss this tournament.
URL:https://www.tupperlakegolf.com/event/75th-annual-tupper-lake-open-pro-am/
CATEGORIES:Member Event,Public Events
ATTACH;FMTTYPE=image/webp:https://www.tupperlakegolf.com/wp-content/uploads/2019/02/golfing-in-tupper-lake_0.jpg-e1719247096427.webp
END:VEVENT
END:VCALENDAR