BEGIN:VCALENDAR
VERSION:2.0
PRODID:-//Tupper Lake Golf Course - ECPv6.15.12.2//NONSGML v1.0//EN
CALSCALE:GREGORIAN
METHOD:PUBLISH
X-WR-CALNAME:Tupper Lake Golf Course
X-ORIGINAL-URL:https://www.tupperlakegolf.com
X-WR-CALDESC:Events for Tupper Lake Golf Course
REFRESH-INTERVAL;VALUE=DURATION:PT1H
X-Robots-Tag:noindex
X-PUBLISHED-TTL:PT1H
BEGIN:VTIMEZONE
TZID:UTC
BEGIN:STANDARD
TZOFFSETFROM:+0000
TZOFFSETTO:+0000
TZNAME:UTC
DTSTART:20230101T000000
END:STANDARD
END:VTIMEZONE
BEGIN:VEVENT
DTSTART;TZID=UTC:20240713T090000
DTEND;TZID=UTC:20240713T170000
DTSTAMP:20260422T084342
CREATED:20240624T161400Z
LAST-MODIFIED:20240624T161400Z
UID:6261-1720861200-1720890000@www.tupperlakegolf.com
SUMMARY:SL Moose Lodge Scramble
DESCRIPTION:
URL:https://www.tupperlakegolf.com/event/sl-moose-lodge-scramble/
CATEGORIES:Public Events
ATTACH;FMTTYPE=image/png:https://www.tupperlakegolf.com/wp-content/uploads/2023/05/moose-lodge.png
END:VEVENT
END:VCALENDAR